BEGIN:VCALENDAR
VERSION:2.0
PRODID:-//Tukios.com/
BEGIN:VEVENT
UID:19d57c3d-e2a4-459a-b13a-00ee3a602473@www.tributesw.care
DTSTAMP:20260421T003550Z
DTSTART:20260427T190000Z
DTEND:20260427T200000Z
SUMMARY:Funeral Service
DESCRIPTION:
URL:https://www.tributesw.care/obituaries/rebecca-ernest
LOCATION:Bethel Baptist Church 1717 West Lindsey Street  Norman OK 73069
GEO:35.2046148;-97.4669581
END:VEVENT
END:VCALENDAR