BEGIN:VCALENDAR
VERSION:2.0
PRODID:-//Tukios.com/
BEGIN:VEVENT
UID:f9e6937e-dabc-476e-9cb3-d8ffc2f61837@www.tributesw.care
DTSTAMP:20260421T004029Z
DTSTART:20260426T190000Z
DTEND:20260426T210000Z
SUMMARY:Visitation
DESCRIPTION:
URL:https://www.tributesw.care/obituaries/rebecca-ernest
LOCATION:Tribute Memorial Care 4300 West Indian Hills Road  Norman OK 
	73072
GEO:35.2898466;-97.5058921
END:VEVENT
END:VCALENDAR